BEGIN:VCALENDAR
VERSION:2.0
PRODID:-//Bethel Church - ECPv6.15.20//NONSGML v1.0//EN
CALSCALE:GREGORIAN
METHOD:PUBLISH
X-WR-CALNAME:Bethel Church
X-ORIGINAL-URL:https://bethelfellowshipchurch.com
X-WR-CALDESC:Events for Bethel Church
REFRESH-INTERVAL;VALUE=DURATION:PT1H
X-Robots-Tag:noindex
X-PUBLISHED-TTL:PT1H
BEGIN:VTIMEZONE
TZID:UTC
BEGIN:STANDARD
TZOFFSETFROM:+0000
TZOFFSETTO:+0000
TZNAME:UTC
DTSTART:20270101T000000
END:STANDARD
END:VTIMEZONE
BEGIN:VEVENT
DTSTART;TZID=UTC:20280416T100000
DTEND;TZID=UTC:20280416T113000
DTSTAMP:20260422T192610
CREATED:20190201T023719Z
LAST-MODIFIED:20190201T023719Z
UID:13688-1839492000-1839497400@bethelfellowshipchurch.com
SUMMARY:Worship Service
DESCRIPTION:
URL:https://bethelfellowshipchurch.com/event/worship-service-2021-07-25/2028-04-16/
LOCATION:Bethel Fellowship Church\, 210 East First Street (Off Highway 68)\, Minneota\, MN\, 56264\, United States
END:VEVENT
END:VCALENDAR