BEGIN:VCALENDAR
VERSION:2.0
PRODID:-//Bethel Church - ECPv6.15.20//NONSGML v1.0//EN
CALSCALE:GREGORIAN
METHOD:PUBLISH
X-WR-CALNAME:Bethel Church
X-ORIGINAL-URL:https://bethelfellowshipchurch.com
X-WR-CALDESC:Events for Bethel Church
REFRESH-INTERVAL;VALUE=DURATION:PT1H
X-Robots-Tag:noindex
X-PUBLISHED-TTL:PT1H
BEGIN:VTIMEZONE
TZID:UTC
BEGIN:STANDARD
TZOFFSETFROM:+0000
TZOFFSETTO:+0000
TZNAME:UTC
DTSTART:20260101T000000
END:STANDARD
END:VTIMEZONE
BEGIN:VTIMEZONE
TZID:America/Chicago
BEGIN:DAYLIGHT
TZOFFSETFROM:-0600
TZOFFSETTO:-0500
TZNAME:CDT
DTSTART:20260308T080000
END:DAYLIGHT
BEGIN:STANDARD
TZOFFSETFROM:-0500
TZOFFSETTO:-0600
TZNAME:CST
DTSTART:20261101T070000
END:STANDARD
BEGIN:DAYLIGHT
TZOFFSETFROM:-0600
TZOFFSETTO:-0500
TZNAME:CDT
DTSTART:20270314T080000
END:DAYLIGHT
BEGIN:STANDARD
TZOFFSETFROM:-0500
TZOFFSETTO:-0600
TZNAME:CST
DTSTART:20271107T070000
END:STANDARD
BEGIN:DAYLIGHT
TZOFFSETFROM:-0600
TZOFFSETTO:-0500
TZNAME:CDT
DTSTART:20280312T080000
END:DAYLIGHT
BEGIN:STANDARD
TZOFFSETFROM:-0500
TZOFFSETTO:-0600
TZNAME:CST
DTSTART:20281105T070000
END:STANDARD
BEGIN:DAYLIGHT
TZOFFSETFROM:-0600
TZOFFSETTO:-0500
TZNAME:CDT
DTSTART:20290311T080000
END:DAYLIGHT
BEGIN:STANDARD
TZOFFSETFROM:-0500
TZOFFSETTO:-0600
TZNAME:CST
DTSTART:20291104T070000
END:STANDARD
END:VTIMEZONE
BEGIN:VEVENT
DTSTART;TZID=UTC:20271010T100000
DTEND;TZID=UTC:20271010T113000
DTSTAMP:20260422T084655
CREATED:20190201T023719Z
LAST-MODIFIED:20190201T023719Z
UID:12107-1823162400-1823167800@bethelfellowshipchurch.com
SUMMARY:Worship Service
DESCRIPTION:
URL:https://bethelfellowshipchurch.com/event/worship-service-2021-07-25/2027-10-10/
LOCATION:Bethel Fellowship Church\, 210 East First Street (Off Highway 68)\, Minneota\, MN\, 56264\, United States
END:VEVENT
BEGIN:VEVENT
DTSTART;TZID=UTC:20271017T100000
DTEND;TZID=UTC:20271017T113000
DTSTAMP:20260422T084655
CREATED:20190201T023719Z
LAST-MODIFIED:20190201T023719Z
UID:12126-1823767200-1823772600@bethelfellowshipchurch.com
SUMMARY:Worship Service
DESCRIPTION:
URL:https://bethelfellowshipchurch.com/event/worship-service/2027-10-17/
LOCATION:Bethel Fellowship Church\, 210 East First Street (Off Highway 68)\, Minneota\, MN\, 56264\, United States
END:VEVENT
BEGIN:VEVENT
DTSTART;TZID=UTC:20271017T100000
DTEND;TZID=UTC:20271017T113000
DTSTAMP:20260422T084655
CREATED:20190201T023719Z
LAST-MODIFIED:20190201T023719Z
UID:12127-1823767200-1823772600@bethelfellowshipchurch.com
SUMMARY:Worship Service
DESCRIPTION:
URL:https://bethelfellowshipchurch.com/event/worship-service-2021-07-25/2027-10-17/
LOCATION:Bethel Fellowship Church\, 210 East First Street (Off Highway 68)\, Minneota\, MN\, 56264\, United States
END:VEVENT
BEGIN:VEVENT
DTSTART;TZID=UTC:20271024T100000
DTEND;TZID=UTC:20271024T113000
DTSTAMP:20260422T084655
CREATED:20190201T023719Z
LAST-MODIFIED:20190201T023719Z
UID:12158-1824372000-1824377400@bethelfellowshipchurch.com
SUMMARY:Worship Service
DESCRIPTION:
URL:https://bethelfellowshipchurch.com/event/worship-service/2027-10-24/
LOCATION:Bethel Fellowship Church\, 210 East First Street (Off Highway 68)\, Minneota\, MN\, 56264\, United States
END:VEVENT
BEGIN:VEVENT
DTSTART;TZID=UTC:20271024T100000
DTEND;TZID=UTC:20271024T113000
DTSTAMP:20260422T084655
CREATED:20190201T023719Z
LAST-MODIFIED:20190201T023719Z
UID:12159-1824372000-1824377400@bethelfellowshipchurch.com
SUMMARY:Worship Service
DESCRIPTION:
URL:https://bethelfellowshipchurch.com/event/worship-service-2021-07-25/2027-10-24/
LOCATION:Bethel Fellowship Church\, 210 East First Street (Off Highway 68)\, Minneota\, MN\, 56264\, United States
END:VEVENT
BEGIN:VEVENT
DTSTART;TZID=UTC:20271031T100000
DTEND;TZID=UTC:20271031T113000
DTSTAMP:20260422T084655
CREATED:20190201T023719Z
LAST-MODIFIED:20190201T023719Z
UID:12176-1824976800-1824982200@bethelfellowshipchurch.com
SUMMARY:Worship Service
DESCRIPTION:
URL:https://bethelfellowshipchurch.com/event/worship-service/2027-10-31/
LOCATION:Bethel Fellowship Church\, 210 East First Street (Off Highway 68)\, Minneota\, MN\, 56264\, United States
END:VEVENT
BEGIN:VEVENT
DTSTART;TZID=UTC:20271031T100000
DTEND;TZID=UTC:20271031T113000
DTSTAMP:20260422T084655
CREATED:20190201T023719Z
LAST-MODIFIED:20190201T023719Z
UID:12177-1824976800-1824982200@bethelfellowshipchurch.com
SUMMARY:Worship Service
DESCRIPTION:
URL:https://bethelfellowshipchurch.com/event/worship-service-2021-07-25/2027-10-31/
LOCATION:Bethel Fellowship Church\, 210 East First Street (Off Highway 68)\, Minneota\, MN\, 56264\, United States
END:VEVENT
BEGIN:VEVENT
DTSTART;TZID=America/Chicago:20271102T190000
DTEND;TZID=America/Chicago:20271102T220000
DTSTAMP:20260422T084655
CREATED:20200228T164857Z
LAST-MODIFIED:20200228T164857Z
UID:12187-1825182000-1825192800@bethelfellowshipchurch.com
SUMMARY:Deacons meeting
DESCRIPTION:
URL:https://bethelfellowshipchurch.com/event/deacons-meeting-10/2027-11-02/
LOCATION:Bethel Fellowship Church\, 210 East First Street (Off Highway 68)\, Minneota\, MN\, 56264\, United States
END:VEVENT
BEGIN:VEVENT
DTSTART;TZID=UTC:20271107T100000
DTEND;TZID=UTC:20271107T113000
DTSTAMP:20260422T084655
CREATED:20190201T023719Z
LAST-MODIFIED:20190201T023719Z
UID:12191-1825581600-1825587000@bethelfellowshipchurch.com
SUMMARY:Worship Service
DESCRIPTION:
URL:https://bethelfellowshipchurch.com/event/worship-service/2027-11-07/
LOCATION:Bethel Fellowship Church\, 210 East First Street (Off Highway 68)\, Minneota\, MN\, 56264\, United States
END:VEVENT
BEGIN:VEVENT
DTSTART;TZID=UTC:20271107T100000
DTEND;TZID=UTC:20271107T113000
DTSTAMP:20260422T084655
CREATED:20190201T023719Z
LAST-MODIFIED:20190201T023719Z
UID:12192-1825581600-1825587000@bethelfellowshipchurch.com
SUMMARY:Worship Service
DESCRIPTION:
URL:https://bethelfellowshipchurch.com/event/worship-service-2021-07-25/2027-11-07/
LOCATION:Bethel Fellowship Church\, 210 East First Street (Off Highway 68)\, Minneota\, MN\, 56264\, United States
END:VEVENT
BEGIN:VEVENT
DTSTART;TZID=UTC:20271114T100000
DTEND;TZID=UTC:20271114T113000
DTSTAMP:20260422T084655
CREATED:20190201T023719Z
LAST-MODIFIED:20190201T023719Z
UID:12239-1826186400-1826191800@bethelfellowshipchurch.com
SUMMARY:Worship Service
DESCRIPTION:
URL:https://bethelfellowshipchurch.com/event/worship-service/2027-11-14/
LOCATION:Bethel Fellowship Church\, 210 East First Street (Off Highway 68)\, Minneota\, MN\, 56264\, United States
END:VEVENT
BEGIN:VEVENT
DTSTART;TZID=UTC:20271114T100000
DTEND;TZID=UTC:20271114T113000
DTSTAMP:20260422T084655
CREATED:20190201T023719Z
LAST-MODIFIED:20190201T023719Z
UID:12240-1826186400-1826191800@bethelfellowshipchurch.com
SUMMARY:Worship Service
DESCRIPTION:
URL:https://bethelfellowshipchurch.com/event/worship-service-2021-07-25/2027-11-14/
LOCATION:Bethel Fellowship Church\, 210 East First Street (Off Highway 68)\, Minneota\, MN\, 56264\, United States
END:VEVENT
BEGIN:VEVENT
DTSTART;TZID=UTC:20271121T100000
DTEND;TZID=UTC:20271121T113000
DTSTAMP:20260422T084655
CREATED:20190201T023719Z
LAST-MODIFIED:20190201T023719Z
UID:12402-1826791200-1826796600@bethelfellowshipchurch.com
SUMMARY:Worship Service
DESCRIPTION:
URL:https://bethelfellowshipchurch.com/event/worship-service/2027-11-21/
LOCATION:Bethel Fellowship Church\, 210 East First Street (Off Highway 68)\, Minneota\, MN\, 56264\, United States
END:VEVENT
BEGIN:VEVENT
DTSTART;TZID=UTC:20271121T100000
DTEND;TZID=UTC:20271121T113000
DTSTAMP:20260422T084655
CREATED:20190201T023719Z
LAST-MODIFIED:20190201T023719Z
UID:12403-1826791200-1826796600@bethelfellowshipchurch.com
SUMMARY:Worship Service
DESCRIPTION:
URL:https://bethelfellowshipchurch.com/event/worship-service-2021-07-25/2027-11-21/
LOCATION:Bethel Fellowship Church\, 210 East First Street (Off Highway 68)\, Minneota\, MN\, 56264\, United States
END:VEVENT
BEGIN:VEVENT
DTSTART;TZID=UTC:20271128T100000
DTEND;TZID=UTC:20271128T113000
DTSTAMP:20260422T084655
CREATED:20190201T023719Z
LAST-MODIFIED:20190201T023719Z
UID:12460-1827396000-1827401400@bethelfellowshipchurch.com
SUMMARY:Worship Service
DESCRIPTION:
URL:https://bethelfellowshipchurch.com/event/worship-service-2021-07-25/2027-11-28/
LOCATION:Bethel Fellowship Church\, 210 East First Street (Off Highway 68)\, Minneota\, MN\, 56264\, United States
END:VEVENT
BEGIN:VEVENT
DTSTART;TZID=UTC:20271128T100000
DTEND;TZID=UTC:20271128T113000
DTSTAMP:20260422T084655
CREATED:20190201T023719Z
LAST-MODIFIED:20190201T023719Z
UID:12459-1827396000-1827401400@bethelfellowshipchurch.com
SUMMARY:Worship Service
DESCRIPTION:
URL:https://bethelfellowshipchurch.com/event/worship-service/2027-11-28/
LOCATION:Bethel Fellowship Church\, 210 East First Street (Off Highway 68)\, Minneota\, MN\, 56264\, United States
END:VEVENT
BEGIN:VEVENT
DTSTART;TZID=UTC:20271205T100000
DTEND;TZID=UTC:20271205T113000
DTSTAMP:20260422T084655
CREATED:20190201T023719Z
LAST-MODIFIED:20190201T023719Z
UID:12537-1828000800-1828006200@bethelfellowshipchurch.com
SUMMARY:Worship Service
DESCRIPTION:
URL:https://bethelfellowshipchurch.com/event/worship-service/2027-12-05/
LOCATION:Bethel Fellowship Church\, 210 East First Street (Off Highway 68)\, Minneota\, MN\, 56264\, United States
END:VEVENT
BEGIN:VEVENT
DTSTART;TZID=UTC:20271205T100000
DTEND;TZID=UTC:20271205T113000
DTSTAMP:20260422T084655
CREATED:20190201T023719Z
LAST-MODIFIED:20190201T023719Z
UID:12538-1828000800-1828006200@bethelfellowshipchurch.com
SUMMARY:Worship Service
DESCRIPTION:
URL:https://bethelfellowshipchurch.com/event/worship-service-2021-07-25/2027-12-05/
LOCATION:Bethel Fellowship Church\, 210 East First Street (Off Highway 68)\, Minneota\, MN\, 56264\, United States
END:VEVENT
BEGIN:VEVENT
DTSTART;TZID=America/Chicago:20271207T190000
DTEND;TZID=America/Chicago:20271207T220000
DTSTAMP:20260422T084655
CREATED:20200228T164857Z
LAST-MODIFIED:20200228T164857Z
UID:12552-1828206000-1828216800@bethelfellowshipchurch.com
SUMMARY:Deacons meeting
DESCRIPTION:
URL:https://bethelfellowshipchurch.com/event/deacons-meeting-10/2027-12-07/
LOCATION:Bethel Fellowship Church\, 210 East First Street (Off Highway 68)\, Minneota\, MN\, 56264\, United States
END:VEVENT
BEGIN:VEVENT
DTSTART;TZID=UTC:20271212T100000
DTEND;TZID=UTC:20271212T113000
DTSTAMP:20260422T084655
CREATED:20190201T023719Z
LAST-MODIFIED:20190201T023719Z
UID:12578-1828605600-1828611000@bethelfellowshipchurch.com
SUMMARY:Worship Service
DESCRIPTION:
URL:https://bethelfellowshipchurch.com/event/worship-service/2027-12-12/
LOCATION:Bethel Fellowship Church\, 210 East First Street (Off Highway 68)\, Minneota\, MN\, 56264\, United States
END:VEVENT
BEGIN:VEVENT
DTSTART;TZID=UTC:20271212T100000
DTEND;TZID=UTC:20271212T113000
DTSTAMP:20260422T084655
CREATED:20190201T023719Z
LAST-MODIFIED:20190201T023719Z
UID:12579-1828605600-1828611000@bethelfellowshipchurch.com
SUMMARY:Worship Service
DESCRIPTION:
URL:https://bethelfellowshipchurch.com/event/worship-service-2021-07-25/2027-12-12/
LOCATION:Bethel Fellowship Church\, 210 East First Street (Off Highway 68)\, Minneota\, MN\, 56264\, United States
END:VEVENT
BEGIN:VEVENT
DTSTART;TZID=UTC:20271219T100000
DTEND;TZID=UTC:20271219T113000
DTSTAMP:20260422T084655
CREATED:20190201T023719Z
LAST-MODIFIED:20190201T023719Z
UID:12599-1829210400-1829215800@bethelfellowshipchurch.com
SUMMARY:Worship Service
DESCRIPTION:
URL:https://bethelfellowshipchurch.com/event/worship-service/2027-12-19/
LOCATION:Bethel Fellowship Church\, 210 East First Street (Off Highway 68)\, Minneota\, MN\, 56264\, United States
END:VEVENT
BEGIN:VEVENT
DTSTART;TZID=UTC:20271219T100000
DTEND;TZID=UTC:20271219T113000
DTSTAMP:20260422T084655
CREATED:20190201T023719Z
LAST-MODIFIED:20190201T023719Z
UID:12600-1829210400-1829215800@bethelfellowshipchurch.com
SUMMARY:Worship Service
DESCRIPTION:
URL:https://bethelfellowshipchurch.com/event/worship-service-2021-07-25/2027-12-19/
LOCATION:Bethel Fellowship Church\, 210 East First Street (Off Highway 68)\, Minneota\, MN\, 56264\, United States
END:VEVENT
BEGIN:VEVENT
DTSTART;TZID=UTC:20271226T100000
DTEND;TZID=UTC:20271226T113000
DTSTAMP:20260422T084655
CREATED:20190201T023719Z
LAST-MODIFIED:20190201T023719Z
UID:12611-1829815200-1829820600@bethelfellowshipchurch.com
SUMMARY:Worship Service
DESCRIPTION:
URL:https://bethelfellowshipchurch.com/event/worship-service/2027-12-26/
LOCATION:Bethel Fellowship Church\, 210 East First Street (Off Highway 68)\, Minneota\, MN\, 56264\, United States
END:VEVENT
BEGIN:VEVENT
DTSTART;TZID=UTC:20271226T100000
DTEND;TZID=UTC:20271226T113000
DTSTAMP:20260422T084655
CREATED:20190201T023719Z
LAST-MODIFIED:20190201T023719Z
UID:12612-1829815200-1829820600@bethelfellowshipchurch.com
SUMMARY:Worship Service
DESCRIPTION:
URL:https://bethelfellowshipchurch.com/event/worship-service-2021-07-25/2027-12-26/
LOCATION:Bethel Fellowship Church\, 210 East First Street (Off Highway 68)\, Minneota\, MN\, 56264\, United States
END:VEVENT
BEGIN:VEVENT
DTSTART;TZID=UTC:20280102T100000
DTEND;TZID=UTC:20280102T113000
DTSTAMP:20260422T084655
CREATED:20190201T023719Z
LAST-MODIFIED:20190201T023719Z
UID:12619-1830420000-1830425400@bethelfellowshipchurch.com
SUMMARY:Worship Service
DESCRIPTION:
URL:https://bethelfellowshipchurch.com/event/worship-service/2028-01-02/
LOCATION:Bethel Fellowship Church\, 210 East First Street (Off Highway 68)\, Minneota\, MN\, 56264\, United States
END:VEVENT
BEGIN:VEVENT
DTSTART;TZID=UTC:20280102T100000
DTEND;TZID=UTC:20280102T113000
DTSTAMP:20260422T084655
CREATED:20190201T023719Z
LAST-MODIFIED:20190201T023719Z
UID:12620-1830420000-1830425400@bethelfellowshipchurch.com
SUMMARY:Worship Service
DESCRIPTION:
URL:https://bethelfellowshipchurch.com/event/worship-service-2021-07-25/2028-01-02/
LOCATION:Bethel Fellowship Church\, 210 East First Street (Off Highway 68)\, Minneota\, MN\, 56264\, United States
END:VEVENT
BEGIN:VEVENT
DTSTART;TZID=America/Chicago:20280104T190000
DTEND;TZID=America/Chicago:20280104T220000
DTSTAMP:20260422T084655
CREATED:20200228T164857Z
LAST-MODIFIED:20200228T164857Z
UID:12633-1830625200-1830636000@bethelfellowshipchurch.com
SUMMARY:Deacons meeting
DESCRIPTION:
URL:https://bethelfellowshipchurch.com/event/deacons-meeting-10/2028-01-04/
LOCATION:Bethel Fellowship Church\, 210 East First Street (Off Highway 68)\, Minneota\, MN\, 56264\, United States
END:VEVENT
BEGIN:VEVENT
DTSTART;TZID=UTC:20280109T100000
DTEND;TZID=UTC:20280109T113000
DTSTAMP:20260422T084655
CREATED:20190201T023719Z
LAST-MODIFIED:20190201T023719Z
UID:12657-1831024800-1831030200@bethelfellowshipchurch.com
SUMMARY:Worship Service
DESCRIPTION:
URL:https://bethelfellowshipchurch.com/event/worship-service/2028-01-09/
LOCATION:Bethel Fellowship Church\, 210 East First Street (Off Highway 68)\, Minneota\, MN\, 56264\, United States
END:VEVENT
BEGIN:VEVENT
DTSTART;TZID=UTC:20280109T100000
DTEND;TZID=UTC:20280109T113000
DTSTAMP:20260422T084655
CREATED:20190201T023719Z
LAST-MODIFIED:20190201T023719Z
UID:12658-1831024800-1831030200@bethelfellowshipchurch.com
SUMMARY:Worship Service
DESCRIPTION:
URL:https://bethelfellowshipchurch.com/event/worship-service-2021-07-25/2028-01-09/
LOCATION:Bethel Fellowship Church\, 210 East First Street (Off Highway 68)\, Minneota\, MN\, 56264\, United States
END:VEVENT
END:VCALENDAR