BEGIN:VCALENDAR
VERSION:2.0
PRODID:-//Bethel Church - ECPv6.15.20//NONSGML v1.0//EN
CALSCALE:GREGORIAN
METHOD:PUBLISH
X-ORIGINAL-URL:https://bethelfellowshipchurch.com
X-WR-CALDESC:Events for Bethel Church
REFRESH-INTERVAL;VALUE=DURATION:PT1H
X-Robots-Tag:noindex
X-PUBLISHED-TTL:PT1H
BEGIN:VTIMEZONE
TZID:America/Chicago
BEGIN:DAYLIGHT
TZOFFSETFROM:-0600
TZOFFSETTO:-0500
TZNAME:CDT
DTSTART:20230312T080000
END:DAYLIGHT
BEGIN:STANDARD
TZOFFSETFROM:-0500
TZOFFSETTO:-0600
TZNAME:CST
DTSTART:20231105T070000
END:STANDARD
BEGIN:DAYLIGHT
TZOFFSETFROM:-0600
TZOFFSETTO:-0500
TZNAME:CDT
DTSTART:20240310T080000
END:DAYLIGHT
BEGIN:STANDARD
TZOFFSETFROM:-0500
TZOFFSETTO:-0600
TZNAME:CST
DTSTART:20241103T070000
END:STANDARD
BEGIN:DAYLIGHT
TZOFFSETFROM:-0600
TZOFFSETTO:-0500
TZNAME:CDT
DTSTART:20250309T080000
END:DAYLIGHT
BEGIN:STANDARD
TZOFFSETFROM:-0500
TZOFFSETTO:-0600
TZNAME:CST
DTSTART:20251102T070000
END:STANDARD
END:VTIMEZONE
BEGIN:VTIMEZONE
TZID:UTC
BEGIN:STANDARD
TZOFFSETFROM:+0000
TZOFFSETTO:+0000
TZNAME:UTC
DTSTART:20230101T000000
END:STANDARD
END:VTIMEZONE
BEGIN:VEVENT
DTSTART;TZID=America/Chicago:20240501T193000
DTEND;TZID=America/Chicago:20240501T210000
DTSTAMP:20260422T035425
CREATED:20210906T012804Z
LAST-MODIFIED:20210906T012804Z
UID:6270-1714591800-1714597200@bethelfellowshipchurch.com
SUMMARY:Weekly Prayer Meeting
DESCRIPTION:
URL:https://bethelfellowshipchurch.com/event/weekly-prayer-meeting/2024-05-01/
LOCATION:MN
END:VEVENT
BEGIN:VEVENT
DTSTART;TZID=UTC:20240505T100000
DTEND;TZID=UTC:20240505T113000
DTSTAMP:20260422T035425
CREATED:20190201T023719Z
LAST-MODIFIED:20190201T023719Z
UID:5920-1714903200-1714908600@bethelfellowshipchurch.com
SUMMARY:Worship Service
DESCRIPTION:
URL:https://bethelfellowshipchurch.com/event/worship-service/2024-05-05/
LOCATION:Bethel Fellowship Church\, 210 East First Street (Off Highway 68)\, Minneota\, MN\, 56264\, United States
END:VEVENT
BEGIN:VEVENT
DTSTART;TZID=UTC:20240505T100000
DTEND;TZID=UTC:20240505T113000
DTSTAMP:20260422T035425
CREATED:20190201T023719Z
LAST-MODIFIED:20190201T023719Z
UID:6151-1714903200-1714908600@bethelfellowshipchurch.com
SUMMARY:Worship Service
DESCRIPTION:
URL:https://bethelfellowshipchurch.com/event/worship-service-2021-07-25/2024-05-05/
LOCATION:Bethel Fellowship Church\, 210 East First Street (Off Highway 68)\, Minneota\, MN\, 56264\, United States
END:VEVENT
BEGIN:VEVENT
DTSTART;TZID=America/Chicago:20240507T190000
DTEND;TZID=America/Chicago:20240507T220000
DTSTAMP:20260422T035425
CREATED:20200228T164857Z
LAST-MODIFIED:20200228T164857Z
UID:6093-1715108400-1715119200@bethelfellowshipchurch.com
SUMMARY:Deacons meeting
DESCRIPTION:
URL:https://bethelfellowshipchurch.com/event/deacons-meeting-10/2024-05-07/
LOCATION:Bethel Fellowship Church\, 210 East First Street (Off Highway 68)\, Minneota\, MN\, 56264\, United States
END:VEVENT
BEGIN:VEVENT
DTSTART;TZID=America/Chicago:20240508T193000
DTEND;TZID=America/Chicago:20240508T210000
DTSTAMP:20260422T035425
CREATED:20210906T012804Z
LAST-MODIFIED:20210906T012804Z
UID:6271-1715196600-1715202000@bethelfellowshipchurch.com
SUMMARY:Weekly Prayer Meeting
DESCRIPTION:
URL:https://bethelfellowshipchurch.com/event/weekly-prayer-meeting/2024-05-08/
LOCATION:MN
END:VEVENT
BEGIN:VEVENT
DTSTART;TZID=UTC:20240512T100000
DTEND;TZID=UTC:20240512T113000
DTSTAMP:20260422T035425
CREATED:20190201T023719Z
LAST-MODIFIED:20190201T023719Z
UID:5921-1715508000-1715513400@bethelfellowshipchurch.com
SUMMARY:Worship Service
DESCRIPTION:
URL:https://bethelfellowshipchurch.com/event/worship-service/2024-05-12/
LOCATION:Bethel Fellowship Church\, 210 East First Street (Off Highway 68)\, Minneota\, MN\, 56264\, United States
END:VEVENT
BEGIN:VEVENT
DTSTART;TZID=UTC:20240512T100000
DTEND;TZID=UTC:20240512T113000
DTSTAMP:20260422T035426
CREATED:20190201T023719Z
LAST-MODIFIED:20190201T023719Z
UID:6152-1715508000-1715513400@bethelfellowshipchurch.com
SUMMARY:Worship Service
DESCRIPTION:
URL:https://bethelfellowshipchurch.com/event/worship-service-2021-07-25/2024-05-12/
LOCATION:Bethel Fellowship Church\, 210 East First Street (Off Highway 68)\, Minneota\, MN\, 56264\, United States
END:VEVENT
BEGIN:VEVENT
DTSTART;TZID=America/Chicago:20240515T193000
DTEND;TZID=America/Chicago:20240515T210000
DTSTAMP:20260422T035426
CREATED:20210906T013145Z
LAST-MODIFIED:20210906T013145Z
UID:6334-1715801400-1715806800@bethelfellowshipchurch.com
SUMMARY:Weekly Prayer Meeting – Missionary Focus
DESCRIPTION:
URL:https://bethelfellowshipchurch.com/event/weekly-prayer-meeting-missionary-focus/2024-05-15/
LOCATION:MN
END:VEVENT
BEGIN:VEVENT
DTSTART;TZID=UTC:20240519T100000
DTEND;TZID=UTC:20240519T113000
DTSTAMP:20260422T035426
CREATED:20190201T023719Z
LAST-MODIFIED:20190201T023719Z
UID:6153-1716112800-1716118200@bethelfellowshipchurch.com
SUMMARY:Worship Service
DESCRIPTION:
URL:https://bethelfellowshipchurch.com/event/worship-service-2021-07-25/2024-05-19/
LOCATION:Bethel Fellowship Church\, 210 East First Street (Off Highway 68)\, Minneota\, MN\, 56264\, United States
END:VEVENT
BEGIN:VEVENT
DTSTART;TZID=UTC:20240519T100000
DTEND;TZID=UTC:20240519T113000
DTSTAMP:20260422T035426
CREATED:20190201T023719Z
LAST-MODIFIED:20190201T023719Z
UID:5922-1716112800-1716118200@bethelfellowshipchurch.com
SUMMARY:Worship Service
DESCRIPTION:
URL:https://bethelfellowshipchurch.com/event/worship-service/2024-05-19/
LOCATION:Bethel Fellowship Church\, 210 East First Street (Off Highway 68)\, Minneota\, MN\, 56264\, United States
END:VEVENT
BEGIN:VEVENT
DTSTART;TZID=America/Chicago:20240522T193000
DTEND;TZID=America/Chicago:20240522T210000
DTSTAMP:20260422T035426
CREATED:20210906T013317Z
LAST-MODIFIED:20210906T013317Z
UID:6365-1716406200-1716411600@bethelfellowshipchurch.com
SUMMARY:Weekly Prayer Meeting – Day of Prayer & Fasting
DESCRIPTION:
URL:https://bethelfellowshipchurch.com/event/weekly-prayer-meeting-day-of-prayer-fasting/2024-05-22/
LOCATION:MN
END:VEVENT
BEGIN:VEVENT
DTSTART;TZID=UTC:20240526T100000
DTEND;TZID=UTC:20240526T113000
DTSTAMP:20260422T035426
CREATED:20190201T023719Z
LAST-MODIFIED:20190201T023719Z
UID:6154-1716717600-1716723000@bethelfellowshipchurch.com
SUMMARY:Worship Service
DESCRIPTION:
URL:https://bethelfellowshipchurch.com/event/worship-service-2021-07-25/2024-05-26/
LOCATION:Bethel Fellowship Church\, 210 East First Street (Off Highway 68)\, Minneota\, MN\, 56264\, United States
END:VEVENT
BEGIN:VEVENT
DTSTART;TZID=UTC:20240526T100000
DTEND;TZID=UTC:20240526T113000
DTSTAMP:20260422T035426
CREATED:20190201T023719Z
LAST-MODIFIED:20190201T023719Z
UID:5923-1716717600-1716723000@bethelfellowshipchurch.com
SUMMARY:Worship Service
DESCRIPTION:
URL:https://bethelfellowshipchurch.com/event/worship-service/2024-05-26/
LOCATION:Bethel Fellowship Church\, 210 East First Street (Off Highway 68)\, Minneota\, MN\, 56264\, United States
END:VEVENT
BEGIN:VEVENT
DTSTART;TZID=America/Chicago:20240529T193000
DTEND;TZID=America/Chicago:20240529T210000
DTSTAMP:20260422T035426
CREATED:20210906T012804Z
LAST-MODIFIED:20210906T012804Z
UID:6272-1717011000-1717016400@bethelfellowshipchurch.com
SUMMARY:Weekly Prayer Meeting
DESCRIPTION:
URL:https://bethelfellowshipchurch.com/event/weekly-prayer-meeting/2024-05-29/
LOCATION:MN
END:VEVENT
END:VCALENDAR