BEGIN:VCALENDAR
VERSION:2.0
PRODID:-//Bethel Church - ECPv6.15.20//NONSGML v1.0//EN
CALSCALE:GREGORIAN
METHOD:PUBLISH
X-ORIGINAL-URL:https://bethelfellowshipchurch.com
X-WR-CALDESC:Events for Bethel Church
REFRESH-INTERVAL;VALUE=DURATION:PT1H
X-Robots-Tag:noindex
X-PUBLISHED-TTL:PT1H
BEGIN:VTIMEZONE
TZID:America/Chicago
BEGIN:DAYLIGHT
TZOFFSETFROM:-0600
TZOFFSETTO:-0500
TZNAME:CDT
DTSTART:20250309T080000
END:DAYLIGHT
BEGIN:STANDARD
TZOFFSETFROM:-0500
TZOFFSETTO:-0600
TZNAME:CST
DTSTART:20251102T070000
END:STANDARD
BEGIN:DAYLIGHT
TZOFFSETFROM:-0600
TZOFFSETTO:-0500
TZNAME:CDT
DTSTART:20260308T080000
END:DAYLIGHT
BEGIN:STANDARD
TZOFFSETFROM:-0500
TZOFFSETTO:-0600
TZNAME:CST
DTSTART:20261101T070000
END:STANDARD
BEGIN:DAYLIGHT
TZOFFSETFROM:-0600
TZOFFSETTO:-0500
TZNAME:CDT
DTSTART:20270314T080000
END:DAYLIGHT
BEGIN:STANDARD
TZOFFSETFROM:-0500
TZOFFSETTO:-0600
TZNAME:CST
DTSTART:20271107T070000
END:STANDARD
BEGIN:DAYLIGHT
TZOFFSETFROM:-0600
TZOFFSETTO:-0500
TZNAME:CDT
DTSTART:20280312T080000
END:DAYLIGHT
BEGIN:STANDARD
TZOFFSETFROM:-0500
TZOFFSETTO:-0600
TZNAME:CST
DTSTART:20281105T070000
END:STANDARD
END:VTIMEZONE
BEGIN:VEVENT
DTSTART;TZID=America/Chicago:20260429T193000
DTEND;TZID=America/Chicago:20260429T210000
DTSTAMP:20260425T075231
CREATED:20210906T012804Z
LAST-MODIFIED:20210906T012804Z
UID:6590-1777491000-1777496400@bethelfellowshipchurch.com
SUMMARY:Weekly Prayer Meeting
DESCRIPTION:
URL:https://bethelfellowshipchurch.com/event/weekly-prayer-meeting/2026-04-29/
END:VEVENT
BEGIN:VEVENT
DTSTART;TZID=America/Chicago:20260506T193000
DTEND;TZID=America/Chicago:20260506T210000
DTSTAMP:20260425T075231
CREATED:20210906T012804Z
LAST-MODIFIED:20210906T012804Z
UID:6622-1778095800-1778101200@bethelfellowshipchurch.com
SUMMARY:Weekly Prayer Meeting
DESCRIPTION:
URL:https://bethelfellowshipchurch.com/event/weekly-prayer-meeting/2026-05-06/
END:VEVENT
BEGIN:VEVENT
DTSTART;TZID=America/Chicago:20260513T193000
DTEND;TZID=America/Chicago:20260513T210000
DTSTAMP:20260425T075231
CREATED:20210906T012804Z
LAST-MODIFIED:20210906T012804Z
UID:6673-1778700600-1778706000@bethelfellowshipchurch.com
SUMMARY:Weekly Prayer Meeting
DESCRIPTION:
URL:https://bethelfellowshipchurch.com/event/weekly-prayer-meeting/2026-05-13/
END:VEVENT
BEGIN:VEVENT
DTSTART;TZID=America/Chicago:20260603T193000
DTEND;TZID=America/Chicago:20260603T210000
DTSTAMP:20260425T075231
CREATED:20210906T012804Z
LAST-MODIFIED:20210906T012804Z
UID:6762-1780515000-1780520400@bethelfellowshipchurch.com
SUMMARY:Weekly Prayer Meeting
DESCRIPTION:
URL:https://bethelfellowshipchurch.com/event/weekly-prayer-meeting/2026-06-03/
END:VEVENT
BEGIN:VEVENT
DTSTART;TZID=America/Chicago:20260610T193000
DTEND;TZID=America/Chicago:20260610T210000
DTSTAMP:20260425T075231
CREATED:20210906T012804Z
LAST-MODIFIED:20210906T012804Z
UID:6793-1781119800-1781125200@bethelfellowshipchurch.com
SUMMARY:Weekly Prayer Meeting
DESCRIPTION:
URL:https://bethelfellowshipchurch.com/event/weekly-prayer-meeting/2026-06-10/
END:VEVENT
BEGIN:VEVENT
DTSTART;TZID=America/Chicago:20260701T193000
DTEND;TZID=America/Chicago:20260701T210000
DTSTAMP:20260425T075231
CREATED:20210906T012804Z
LAST-MODIFIED:20210906T012804Z
UID:7063-1782934200-1782939600@bethelfellowshipchurch.com
SUMMARY:Weekly Prayer Meeting
DESCRIPTION:
URL:https://bethelfellowshipchurch.com/event/weekly-prayer-meeting/2026-07-01/
END:VEVENT
BEGIN:VEVENT
DTSTART;TZID=America/Chicago:20260708T193000
DTEND;TZID=America/Chicago:20260708T210000
DTSTAMP:20260425T075231
CREATED:20210906T012804Z
LAST-MODIFIED:20210906T012804Z
UID:7314-1783539000-1783544400@bethelfellowshipchurch.com
SUMMARY:Weekly Prayer Meeting
DESCRIPTION:
URL:https://bethelfellowshipchurch.com/event/weekly-prayer-meeting/2026-07-08/
END:VEVENT
BEGIN:VEVENT
DTSTART;TZID=America/Chicago:20260729T193000
DTEND;TZID=America/Chicago:20260729T210000
DTSTAMP:20260425T075231
CREATED:20210906T012804Z
LAST-MODIFIED:20210906T012804Z
UID:8419-1785353400-1785358800@bethelfellowshipchurch.com
SUMMARY:Weekly Prayer Meeting
DESCRIPTION:
URL:https://bethelfellowshipchurch.com/event/weekly-prayer-meeting/2026-07-29/
END:VEVENT
BEGIN:VEVENT
DTSTART;TZID=America/Chicago:20260805T193000
DTEND;TZID=America/Chicago:20260805T210000
DTSTAMP:20260425T075231
CREATED:20210906T012804Z
LAST-MODIFIED:20210906T012804Z
UID:8611-1785958200-1785963600@bethelfellowshipchurch.com
SUMMARY:Weekly Prayer Meeting
DESCRIPTION:
URL:https://bethelfellowshipchurch.com/event/weekly-prayer-meeting/2026-08-05/
END:VEVENT
BEGIN:VEVENT
DTSTART;TZID=America/Chicago:20260812T193000
DTEND;TZID=America/Chicago:20260812T210000
DTSTAMP:20260425T075231
CREATED:20210906T012804Z
LAST-MODIFIED:20210906T012804Z
UID:8748-1786563000-1786568400@bethelfellowshipchurch.com
SUMMARY:Weekly Prayer Meeting
DESCRIPTION:
URL:https://bethelfellowshipchurch.com/event/weekly-prayer-meeting/2026-08-12/
END:VEVENT
BEGIN:VEVENT
DTSTART;TZID=America/Chicago:20260902T193000
DTEND;TZID=America/Chicago:20260902T210000
DTSTAMP:20260425T075231
CREATED:20210906T012804Z
LAST-MODIFIED:20210906T012804Z
UID:10057-1788377400-1788382800@bethelfellowshipchurch.com
SUMMARY:Weekly Prayer Meeting
DESCRIPTION:
URL:https://bethelfellowshipchurch.com/event/weekly-prayer-meeting/2026-09-02/
END:VEVENT
BEGIN:VEVENT
DTSTART;TZID=America/Chicago:20260909T193000
DTEND;TZID=America/Chicago:20260909T210000
DTSTAMP:20260425T075231
CREATED:20210906T012804Z
LAST-MODIFIED:20210906T012804Z
UID:10176-1788982200-1788987600@bethelfellowshipchurch.com
SUMMARY:Weekly Prayer Meeting
DESCRIPTION:
URL:https://bethelfellowshipchurch.com/event/weekly-prayer-meeting/2026-09-09/
END:VEVENT
BEGIN:VEVENT
DTSTART;TZID=America/Chicago:20260930T193000
DTEND;TZID=America/Chicago:20260930T210000
DTSTAMP:20260425T075231
CREATED:20210906T012804Z
LAST-MODIFIED:20210906T012804Z
UID:10217-1790796600-1790802000@bethelfellowshipchurch.com
SUMMARY:Weekly Prayer Meeting
DESCRIPTION:
URL:https://bethelfellowshipchurch.com/event/weekly-prayer-meeting/2026-09-30/
END:VEVENT
BEGIN:VEVENT
DTSTART;TZID=America/Chicago:20261007T193000
DTEND;TZID=America/Chicago:20261007T210000
DTSTAMP:20260425T075231
CREATED:20210906T012804Z
LAST-MODIFIED:20210906T012804Z
UID:10248-1791401400-1791406800@bethelfellowshipchurch.com
SUMMARY:Weekly Prayer Meeting
DESCRIPTION:
URL:https://bethelfellowshipchurch.com/event/weekly-prayer-meeting/2026-10-07/
END:VEVENT
BEGIN:VEVENT
DTSTART;TZID=America/Chicago:20261014T193000
DTEND;TZID=America/Chicago:20261014T210000
DTSTAMP:20260425T075231
CREATED:20210906T012804Z
LAST-MODIFIED:20210906T012804Z
UID:10276-1792006200-1792011600@bethelfellowshipchurch.com
SUMMARY:Weekly Prayer Meeting
DESCRIPTION:
URL:https://bethelfellowshipchurch.com/event/weekly-prayer-meeting/2026-10-14/
END:VEVENT
BEGIN:VEVENT
DTSTART;TZID=America/Chicago:20261104T193000
DTEND;TZID=America/Chicago:20261104T210000
DTSTAMP:20260425T075231
CREATED:20210906T012804Z
LAST-MODIFIED:20210906T012804Z
UID:10678-1793820600-1793826000@bethelfellowshipchurch.com
SUMMARY:Weekly Prayer Meeting
DESCRIPTION:
URL:https://bethelfellowshipchurch.com/event/weekly-prayer-meeting/2026-11-04/
END:VEVENT
BEGIN:VEVENT
DTSTART;TZID=America/Chicago:20261111T193000
DTEND;TZID=America/Chicago:20261111T210000
DTSTAMP:20260425T075231
CREATED:20210906T012804Z
LAST-MODIFIED:20210906T012804Z
UID:11075-1794425400-1794430800@bethelfellowshipchurch.com
SUMMARY:Weekly Prayer Meeting
DESCRIPTION:
URL:https://bethelfellowshipchurch.com/event/weekly-prayer-meeting/2026-11-11/
END:VEVENT
BEGIN:VEVENT
DTSTART;TZID=America/Chicago:20261202T193000
DTEND;TZID=America/Chicago:20261202T210000
DTSTAMP:20260425T075231
CREATED:20210906T012804Z
LAST-MODIFIED:20210906T012804Z
UID:11108-1796239800-1796245200@bethelfellowshipchurch.com
SUMMARY:Weekly Prayer Meeting
DESCRIPTION:
URL:https://bethelfellowshipchurch.com/event/weekly-prayer-meeting/2026-12-02/
END:VEVENT
BEGIN:VEVENT
DTSTART;TZID=America/Chicago:20261209T193000
DTEND;TZID=America/Chicago:20261209T210000
DTSTAMP:20260425T075231
CREATED:20210906T012804Z
LAST-MODIFIED:20210906T012804Z
UID:11163-1796844600-1796850000@bethelfellowshipchurch.com
SUMMARY:Weekly Prayer Meeting
DESCRIPTION:
URL:https://bethelfellowshipchurch.com/event/weekly-prayer-meeting/2026-12-09/
END:VEVENT
BEGIN:VEVENT
DTSTART;TZID=America/Chicago:20261230T193000
DTEND;TZID=America/Chicago:20261230T210000
DTSTAMP:20260425T075231
CREATED:20210906T012804Z
LAST-MODIFIED:20210906T012804Z
UID:11360-1798659000-1798664400@bethelfellowshipchurch.com
SUMMARY:Weekly Prayer Meeting
DESCRIPTION:
URL:https://bethelfellowshipchurch.com/event/weekly-prayer-meeting/2026-12-30/
END:VEVENT
BEGIN:VEVENT
DTSTART;TZID=America/Chicago:20270106T193000
DTEND;TZID=America/Chicago:20270106T210000
DTSTAMP:20260425T075231
CREATED:20210906T012804Z
LAST-MODIFIED:20210906T012804Z
UID:11430-1799263800-1799269200@bethelfellowshipchurch.com
SUMMARY:Weekly Prayer Meeting
DESCRIPTION:
URL:https://bethelfellowshipchurch.com/event/weekly-prayer-meeting/2027-01-06/
END:VEVENT
BEGIN:VEVENT
DTSTART;TZID=America/Chicago:20270113T193000
DTEND;TZID=America/Chicago:20270113T210000
DTSTAMP:20260425T075231
CREATED:20210906T012804Z
LAST-MODIFIED:20210906T012804Z
UID:11446-1799868600-1799874000@bethelfellowshipchurch.com
SUMMARY:Weekly Prayer Meeting
DESCRIPTION:
URL:https://bethelfellowshipchurch.com/event/weekly-prayer-meeting/2027-01-13/
END:VEVENT
BEGIN:VEVENT
DTSTART;TZID=America/Chicago:20270203T193000
DTEND;TZID=America/Chicago:20270203T210000
DTSTAMP:20260425T075231
CREATED:20210906T012804Z
LAST-MODIFIED:20210906T012804Z
UID:11481-1801683000-1801688400@bethelfellowshipchurch.com
SUMMARY:Weekly Prayer Meeting
DESCRIPTION:
URL:https://bethelfellowshipchurch.com/event/weekly-prayer-meeting/2027-02-03/
END:VEVENT
BEGIN:VEVENT
DTSTART;TZID=America/Chicago:20270210T193000
DTEND;TZID=America/Chicago:20270210T210000
DTSTAMP:20260425T075231
CREATED:20210906T012804Z
LAST-MODIFIED:20210906T012804Z
UID:11502-1802287800-1802293200@bethelfellowshipchurch.com
SUMMARY:Weekly Prayer Meeting
DESCRIPTION:
URL:https://bethelfellowshipchurch.com/event/weekly-prayer-meeting/2027-02-10/
END:VEVENT
BEGIN:VEVENT
DTSTART;TZID=America/Chicago:20270303T193000
DTEND;TZID=America/Chicago:20270303T210000
DTSTAMP:20260425T075231
CREATED:20210906T012804Z
LAST-MODIFIED:20210906T012804Z
UID:11552-1804102200-1804107600@bethelfellowshipchurch.com
SUMMARY:Weekly Prayer Meeting
DESCRIPTION:
URL:https://bethelfellowshipchurch.com/event/weekly-prayer-meeting/2027-03-03/
END:VEVENT
BEGIN:VEVENT
DTSTART;TZID=America/Chicago:20270310T193000
DTEND;TZID=America/Chicago:20270310T210000
DTSTAMP:20260425T075231
CREATED:20210906T012804Z
LAST-MODIFIED:20210906T012804Z
UID:11585-1804707000-1804712400@bethelfellowshipchurch.com
SUMMARY:Weekly Prayer Meeting
DESCRIPTION:
URL:https://bethelfellowshipchurch.com/event/weekly-prayer-meeting/2027-03-10/
END:VEVENT
BEGIN:VEVENT
DTSTART;TZID=America/Chicago:20270331T193000
DTEND;TZID=America/Chicago:20270331T210000
DTSTAMP:20260425T075231
CREATED:20210906T012804Z
LAST-MODIFIED:20210906T012804Z
UID:11651-1806521400-1806526800@bethelfellowshipchurch.com
SUMMARY:Weekly Prayer Meeting
DESCRIPTION:
URL:https://bethelfellowshipchurch.com/event/weekly-prayer-meeting/2027-03-31/
END:VEVENT
BEGIN:VEVENT
DTSTART;TZID=America/Chicago:20270407T193000
DTEND;TZID=America/Chicago:20270407T210000
DTSTAMP:20260425T075231
CREATED:20210906T012804Z
LAST-MODIFIED:20210906T012804Z
UID:11665-1807126200-1807131600@bethelfellowshipchurch.com
SUMMARY:Weekly Prayer Meeting
DESCRIPTION:
URL:https://bethelfellowshipchurch.com/event/weekly-prayer-meeting/2027-04-07/
END:VEVENT
BEGIN:VEVENT
DTSTART;TZID=America/Chicago:20270414T193000
DTEND;TZID=America/Chicago:20270414T210000
DTSTAMP:20260425T075231
CREATED:20210906T012804Z
LAST-MODIFIED:20210906T012804Z
UID:11681-1807731000-1807736400@bethelfellowshipchurch.com
SUMMARY:Weekly Prayer Meeting
DESCRIPTION:
URL:https://bethelfellowshipchurch.com/event/weekly-prayer-meeting/2027-04-14/
END:VEVENT
BEGIN:VEVENT
DTSTART;TZID=America/Chicago:20270505T193000
DTEND;TZID=America/Chicago:20270505T210000
DTSTAMP:20260425T075231
CREATED:20210906T012804Z
LAST-MODIFIED:20210906T012804Z
UID:11724-1809545400-1809550800@bethelfellowshipchurch.com
SUMMARY:Weekly Prayer Meeting
DESCRIPTION:
URL:https://bethelfellowshipchurch.com/event/weekly-prayer-meeting/2027-05-05/
END:VEVENT
END:VCALENDAR